BEGIN:VCALENDAR
PRODID:-//AT Content Types//AT Event//EN
VERSION:1.0
BEGIN:VEVENT
DTSTART:20161203T100000Z
DTEND:20161204T130000Z
DCREATED:20160708T155213Z
UID:ATEvent-12fa2fd2389243d1b3ab51bd553012a2
SEQUENCE:0
LAST-MODIFIED:20160708T155525Z
SUMMARY:Towards INMS Workshop (prior to INI-2016)
DESCRIPTION:Preparatory workshop towards the International Nitrogen Ma
 nagement System
LOCATION:Melbourne Cricket Club\, Melbourne Victoria Australia. Same Venue as INI 2016 conference.
PRIORITY:3
TRANSP:0
END:VEVENT
END:VCALENDAR
