BEGIN:VCALENDAR
PRODID:-//AT Content Types//AT Event//EN
VERSION:2.0
METHOD:PUBLISH
BEGIN:VEVENT
DTSTAMP:20260424T115025Z
CREATED:20141204T173952Z
UID:ATEvent-cfb52e8bb3aa42d097b379273379b1a2
LAST-MODIFIED:20151013T163448Z
SUMMARY:INMS Plenary Meeting
DTSTART:20150427T090000Z
DTEND:20150428T170000Z
DESCRIPTION:INMS Partner Meeting
LOCATION:Lisbon\, Portugal
CLASS:PUBLIC
END:VEVENT
END:VCALENDAR
