BEGIN:VCALENDAR
PRODID:-//AT Content Types//AT Event//EN
VERSION:1.0
BEGIN:VEVENT
DTSTART:20150505T090000Z
DTEND:20150506T140000Z
DCREATED:20141204T174943Z
UID:ATEvent-d434aeb6d0f34d8497dc74e0c65ba271
SEQUENCE:0
LAST-MODIFIED:20151013T163408Z
SUMMARY:INMS & Integrated Assessment Modelling
LOCATION:Edinburgh\, UK
PRIORITY:3
TRANSP:0
END:VEVENT
END:VCALENDAR
