BEGIN:VCALENDAR
PRODID:-//AT Content Types//AT Event//EN
VERSION:2.0
METHOD:PUBLISH
BEGIN:VEVENT
DTSTAMP:20260424T114528Z
CREATED:20151013T160410Z
UID:ATEvent-8eff13b844c143b89f5a6622a5c3f7be
LAST-MODIFIED:20151016T175548Z
SUMMARY:INMS Demonstration Region Meeting
DTSTART:20150327T130000Z
DTEND:20150327T170000Z
LOCATION:Albersweiler\, Germany
CLASS:PUBLIC
END:VEVENT
END:VCALENDAR
